Workbook
Name _____asd15: #REF!
Name _____hjk1: #REF!
Name ___asd15: #REF!
Name ___hjk1: #REF!
Name _asd15: #REF!
Name _hjk1: #REF!
Name ggh: #REF!
Name hgghb: #REF!
Name rr: #REF!
Name а318: #REF!
Name А319: #REF!
Name ввп1: #REF!
Name ити: #REF!
Name при: #REF!
Name рор: #REF!
Name ф123: #REF!
Name ф124: #REF!
Name ф21: #REF!
Name Ф320: #REF!
Name ф324: #REF!
Name Ф45: #REF!

Sheet Приложение 1
A1: Приложение 1
A2: к решению Совета сельского поселения "Кельчиюр"
A3: "О внесении изменений в решение Совета сельского поселения "Кельчиюр"
A4: "О бюджете сельского поселения "Кельчиюр" на 2026 год и
A5: плановый период 2027 и 2028 годов"
A6: от 02 октября 2026 года № 5-38/1
A8: Приложение 1
A9: к решению Совета сельского поселения "Кельчиюр"
A10: "О бюджете сельского поселения "Кельчиюр" на 2026 год и
A11: плановый период 2027 и 2028 годов"
A12: от 24 декабря 2025 года № 5-33/1
A14: Распределение бюджетных ассигнований по разделам, подразделам, целевым статьям, группам видов расходов классификации расходов бюджетов на 2026 год и на плановый период 2027 и 2028 годов
A17: Наименование | B17: РЗ | C17: ПР | D17: ЦСР | E17: ВР | F17: Сумма (тыс. рублей)
F18: 2026 год | G18: 2027 год | H18: 2028 год
A19: 1 | B19: 2 | C19: 3 | D19: 4 | E19: 5 | F19: 6 | G19: 7 | H19: 8
A20: Всего | F20: =F21+F63+F74+F55+F79 -> 8977 | G20: =G21+G63+G74+G55+G79 -> 6597 | H20: =H21+H63+H74+H55+H79 -> 6777
A21: Общегосударственные вопросы | B21: 01 | C21: 00 | F21: =F22+F26+F47 -> 6911.6 | G21: =G22+G26+G47 -> 5534.4 | H21: =H22+H26+H47 -> 5554.9
A22: Функционирование высшего должностного лица субъекта Российской Федерации и муниципального образования | B22: 01 | C22: 02 | F22: =F23 -> 1427.1 | G22: =G23 -> 1001.6 | H22: =H23 -> 1001.6
A23: Непрограммные направления деятельности | B23: 01 | C23: 02 | D23: 9900000000 | F23: =F24 -> 1427.1 | G23: =G24 -> 1001.6 | H23: =H24 -> 1001.6
A24: Глава муниципального образования | B24: 01 | C24: 02 | D24: 99 0 00 02030 | F24: =F25 -> 1427.1 | G24: =G25 -> 1001.6 | H24: =H25 -> 1001.6
A25: Расходы на выплаты персоналу в целях обеспечения выполнения функций государственными (муниципальными) органами, казенными учреждениями, органами управления государственными внебюджетными фондами | B25: 01 | C25: 02 | D25: 99 0 00 02030 | E25: 100 | F25: 1427.1 | G25: 1001.6 | H25: 1001.6
A26: Функционирование Правительства Российской Федерации, высших исполнительных органов субъектов Российской Федерации, местных администраций | B26: 01 | C26: 04 | F26: =F27 -> 5442.7 | G26: =G27 -> 4523.8 | H26: =H27 -> 4544.3
A27: Непрограммные направления деятельности | B27: 01 | C27: 04 | D27: 9900000000 | F27: =F28+F38+F41+F44+F35+F32 -> 5442.7 | G27: =G28+G38+G41+G44+G35 -> 4523.8 | H27: =H28+H38+H41+H44+H35 -> 4544.3
A28: Руководство и управление в сфере установленных функций органов местного самоуправления (центральный аппарат) | B28: 01 | C28: 04 | D28: 9900002040 | F28: =F29+F30+F31 -> 4841.5 | G28: =G29+G30+G31 -> 3884.1 | H28: =H29+H30+H31 -> 3737.2
A29: Расходы на выплаты персоналу в целях обеспечения выполнения функций государственными (муниципальными) органами, казенными учреждениями, органами управления государственными внебюджетными фондами | B29: 01 | C29: 04 | D29: 9900002040 | E29: 100 | F29: 3921.8 | G29: 3350.5 | H29: 3350.5
A30: Закупка товаров, работ и услуг для обеспечения государственных (муниципальных) нужд | B30: 01 | C30: 04 | D30: 9900002040 | E30: 200 | F30: 916.7 | G30: 530.6 | H30: 383.7
A31: Иные бюджетные ассигнования | B31: 01 | C31: 04 | D31: 9900002040 | E31: 800 | F31: 3 | G31: 3 | H31: 3
A32: Осуществление полномочий муниципального района по содержанию мест захоронения | B32: 01 | C32: 04 | D32: 9900022003 | F32: =F33+F34 -> 12.5 | G32: =G33+G34 -> 0 | H32: =H33+H34 -> 0
A33: Расходы на выплаты персоналу в целях обеспечения выполнения функций государственными (муниципальными) органами, казенными учреждениями, органами управления государственными внебюджетными фондами | B33: 01 | C33: 04 | D33: 9900022003 | E33: 100 | F33: 12.4 | G33: 0 | H33: 0
A34: Закупка товаров, работ и услуг для обеспечения государственных (муниципальных) нужд | B34: 01 | C34: 04 | D34: 9900022003 | E34: 200 | F34: 0.1 | G34: 0 | H34: 0
A35: Осуществление полномочий по предоставлению помещения для работы на обслуживаемом административном участке поселения сотруднику, замещающему должность участкового уполномоченного полиции | B35: 01 | C35: 04 | D35: 9900022007 | F35: =F36+F37 -> 12.5 | G35: =G36+G37 -> 0 | H35: =H36+H37 -> 0
A36: Расходы на выплаты персоналу в целях обеспечения выполнения функций государственными (муниципальными) органами, казенными учреждениями, органами управления государственными внебюджетными фондами | B36: 01 | C36: 04 | D36: 9900022007 | E36: 100 | F36: 12.4 | G36: 0 | H36: 0
A37: Закупка товаров, работ и услуг для обеспечения государственных (муниципальных) нужд | B37: 01 | C37: 04 | D37: 9900022007 | E37: 200 | F37: 0.1 | G37: 0 | H37: 0
A38: Осуществление первичного воинского учета на территориях, где отсутствуют военные комиссариаты | B38: 01 | C38: 04 | D38: 9900051180 | F38: =F39+F40 -> 520.3 | G38: =G39+G40 -> 583.8 | H38: =H39+H40 -> 751.2
A39: Расходы на выплаты персоналу в целях обеспечения выполнения функций государственными (муниципальными) органами, казенными учреждениями, органами управления государственными внебюджетными фондами | B39: 01 | C39: 04 | D39: 9900051180 | E39: 100 | F39: 358.1 | G39: 373.6 | H39: 406.6
A40: Закупка товаров, работ и услуг для обеспечения государственных (муниципальных) нужд | B40: 01 | C40: 04 | D40: 9900051180 | E40: 200 | F40: 162.2 | G40: 210.2 | H40: 344.6
A41: Осуществление полномочий Российской Федерации по государственной регистрации актов гражданского состояния | B41: 01 | C41: 04 | D41: 9900059300 | F41: =F42+F43 -> 18.9 | G41: =G42+G43 -> 18.9 | H41: =H42+H43 -> 18.9
A42: Расходы на выплаты персоналу в целях обеспечения выполнения функций государственными (муниципальными) органами, казенными учреждениями, органами управления государственными внебюджетными фондами | B42: 01 | C42: 04 | D42: 9900059300 | E42: 100 | F42: 14.2 | G42: 14.2 | H42: 14.2
A43: Закупка товаров, работ и услуг для обеспечения государственных (муниципальных) нужд | B43: 01 | C43: 04 | D43: 9900059300 | E43: 200 | F43: 4.7 | G43: 4.7 | H43: 4.7
A44: Осуществление государственных полномочий Республики Коми, предусмотренных пунктом 6 статьи 1, статьями 2, 2(1) и 3 Закона Республики Коми "О наделении органов местного самоуправления в Республике Коми отдельными государственными полномочиями Республики Коми" | B44: 01 | C44: 04 | D44: 9900073150 | F44: =F45+F46 -> 37 | G44: =G45+G46 -> 37 | H44: =H45+H46 -> 37
...

Sheet Приложение 2
A1: Приложение 2
A2: к решению Совета сельского поселения "Кельчиюр"
A3: "О внесении изменений в решение Совета сельского поселения "Кельчиюр"
A4: "О бюджете сельского поселения "Кельчиюр" на 2026 год и
A5: плановый период 2027 и 2028 годов"
A6: от 02 октября 2026 года № 5-38/1
A8: Приложение 2
A9: к решению Совета сельского поселения "Кельчиюр"
A10: "О бюджете сельского поселения "Кельчиюр" на 2026 год и
A11: плановый период 2027 и 2028 годов"
A12: от 24 декабря 2025 года № 5-33/1
A14: Ведомственная структура расходов бюджета сельского поселения "Кельчиюр" на 2026 год и на плановый период 2027 и 2028 годов
A17: Наименование | B17: Гл | C17: РЗ | D17: ПР | E17: ЦСР | F17: ВР | G17: Сумма (тыс. рублей)
G18: 2026 год | H18: 2027 год | I18: 2028 год
A19: 1 | B19: 2 | C19: 3 | D19: 4 | E19: 5 | F19: 6 | G19: 7 | H19: 8 | I19: 9
A20: Администрация сельского поселения «Кельчиюр» | B20: 918 | G20: =G21+G63+G74+G55+G79 -> 8977 | H20: =H21+H63+H74+H55+H79 -> 6597 | I20: =I21+I63+I74+I55+I79 -> 6777
A21: Общегосударственные вопросы | C21: 01 | D21: 00 | G21: =G22+G26+G47 -> 6911.6 | H21: =H22+H26+H47 -> 5534.4 | I21: =I22+I26+I47 -> 5554.9
A22: Функционирование высшего должностного лица субъекта Российской Федерации и муниципального образования | C22: 01 | D22: 02 | G22: =G23 -> 1427.1 | H22: =H23 -> 1001.6 | I22: =I23 -> 1001.6
A23: Непрограммные направления деятельности | C23: 01 | D23: 02 | E23: 9900000000 | G23: =G24 -> 1427.1 | H23: =H24 -> 1001.6 | I23: =I24 -> 1001.6
A24: Глава муниципального образования | C24: 01 | D24: 02 | E24: 99 0 00 02030 | G24: =G25 -> 1427.1 | H24: =H25 -> 1001.6 | I24: =I25 -> 1001.6
A25: Расходы на выплаты персоналу в целях обеспечения выполнения функций государственными (муниципальными) органами, казенными учреждениями, органами управления государственными внебюджетными фондами | C25: 01 | D25: 02 | E25: 99 0 00 02030 | F25: 100 | G25: ='Приложение 1'!F25 -> 1427.1 | H25: ='Приложение 1'!G25 -> 1001.6 | I25: ='Приложение 1'!H25 -> 1001.6
A26: Функционирование Правительства Российской Федерации, высших исполнительных органов субъектов Российской Федерации, местных администраций | C26: 01 | D26: 04 | G26: =G27 -> 5442.7 | H26: =H27 -> 4523.8 | I26: =I27 -> 4544.3
A27: Непрограммные направления деятельности | C27: 01 | D27: 04 | E27: 9900000000 | G27: =G28+G38+G41+G44+G35+G32 -> 5442.7 | H27: =H28+H38+H41+H44+H35 -> 4523.8 | I27: =I28+I38+I41+I44+I35 -> 4544.3
A28: Руководство и управление в сфере установленных функций органов местного самоуправления (центральный аппарат) | C28: 01 | D28: 04 | E28: 9900002040 | G28: =G29+G30+G31 -> 4841.5 | H28: =H29+H30+H31 -> 3884.1 | I28: =I29+I30+I31 -> 3737.2
A29: Расходы на выплаты персоналу в целях обеспечения выполнения функций государственными (муниципальными) органами, казенными учреждениями, органами управления государственными внебюджетными фондами | C29: 01 | D29: 04 | E29: 9900002040 | F29: 100 | G29: ='Приложение 1'!F29 -> 3921.8 | H29: ='Приложение 1'!G29 -> 3350.5 | I29: ='Приложение 1'!H29 -> 3350.5
A30: Закупка товаров, работ и услуг для обеспечения государственных (муниципальных) нужд | C30: 01 | D30: 04 | E30: 9900002040 | F30: 200 | G30: ='Приложение 1'!F30 -> 916.7 | H30: ='Приложение 1'!G30 -> 530.6 | I30: ='Приложение 1'!H30 -> 383.7
A31: Иные бюджетные ассигнования | C31: 01 | D31: 04 | E31: 9900002040 | F31: 800 | G31: ='Приложение 1'!F31 -> 3 | H31: ='Приложение 1'!G31 -> 3 | I31: ='Приложение 1'!H31 -> 3
A32: Осуществление полномочий муниципального района по содержанию мест захоронения | C32: 01 | D32: 04 | E32: 9900022003 | G32: =G33+G34 -> 12.5 | H32: =H33+H34 -> 0 | I32: =I33+I34 -> 0
A33: Расходы на выплаты персоналу в целях обеспечения выполнения функций государственными (муниципальными) органами, казенными учреждениями, органами управления государственными внебюджетными фондами | C33: 01 | D33: 04 | E33: 9900022003 | F33: 100 | G33: ='Приложение 1'!F33 -> 12.4 | H33: ='[1]Приложение 1 '!G25 -> 0 | I33: ='[1]Приложение 1 '!H25 -> 0
A34: Закупка товаров, работ и услуг для обеспечения государственных (муниципальных) нужд | C34: 01 | D34: 04 | E34: 9900022003 | F34: 200 | G34: ='Приложение 1'!F34 -> 0.1 | H34: ='[1]Приложение 1 '!G26 -> 0 | I34: ='[1]Приложение 1 '!H26 -> 0
A35: Осуществление полномочий по предоставлению помещения для работы на обслуживаемом административном участке поселения сотруднику, замещающему должность участкового уполномоченного полиции | C35: 01 | D35: 04 | E35: 9900022007 | G35: =G36+G37 -> 12.5 | H35: =H36+H37 -> 0 | I35: =I36+I37 -> 0
A36: Расходы на выплаты персоналу в целях обеспечения выполнения функций государственными (муниципальными) органами, казенными учреждениями, органами управления государственными внебюджетными фондами | C36: 01 | D36: 04 | E36: 9900022007 | F36: 100 | G36: ='Приложение 1'!F36 -> 12.4 | H36: ='Приложение 1'!G36 -> 0 | I36: ='Приложение 1'!H36 -> 0
A37: Закупка товаров, работ и услуг для обеспечения государственных (муниципальных) нужд | C37: 01 | D37: 04 | E37: 9900022007 | F37: 200 | G37: ='Приложение 1'!F37 -> 0.1 | H37: ='Приложение 1'!G37 -> 0 | I37: ='Приложение 1'!H37 -> 0
A38: Осуществление первичного воинского учета на территориях, где отсутствуют военные комиссариаты | C38: 01 | D38: 04 | E38: 9900051180 | G38: =G39+G40 -> 520.3 | H38: =H39+H40 -> 583.8 | I38: =I39+I40 -> 751.2
A39: Расходы на выплаты персоналу в целях обеспечения выполнения функций государственными (муниципальными) органами, казенными учреждениями, органами управления государственными внебюджетными фондами | C39: 01 | D39: 04 | E39: 9900051180 | F39: 100 | G39: ='Приложение 1'!F39 -> 358.1 | H39: ='Приложение 1'!G39 -> 373.6 | I39: ='Приложение 1'!H39 -> 406.6
A40: Закупка товаров, работ и услуг для обеспечения государственных (муниципальных) нужд | C40: 01 | D40: 04 | E40: 9900051180 | F40: 200 | G40: ='Приложение 1'!F40 -> 162.2 | H40: ='Приложение 1'!G40 -> 210.2 | I40: ='Приложение 1'!H40 -> 344.6
A41: Осуществление полномочий Российской Федерации по государственной регистрации актов гражданского состояния | C41: 01 | D41: 04 | E41: 9900059300 | G41: =G42+G43 -> 18.9 | H41: =H42+H43 -> 18.9 | I41: =I42+I43 -> 18.9
A42: Расходы на выплаты персоналу в целях обеспечения выполнения функций государственными (муниципальными) органами, казенными учреждениями, органами управления государственными внебюджетными фондами | C42: 01 | D42: 04 | E42: 9900059300 | F42: 100 | G42: ='Приложение 1'!F42 -> 14.2 | H42: ='Приложение 1'!G42 -> 14.2 | I42: ='Приложение 1'!H42 -> 14.2
A43: Закупка товаров, работ и услуг для обеспечения государственных (муниципальных) нужд | C43: 01 | D43: 04 | E43: 9900059300 | F43: 200 | G43: ='Приложение 1'!F43 -> 4.7 | H43: ='Приложение 1'!G43 -> 4.7 | I43: ='Приложение 1'!H43 -> 4.7
A44: Осуществление государственных полномочий Республики Коми, предусмотренных пунктом 6 статьи 1, статьями 2, 2(1) и 3 Закона Республики Коми "О наделении органов местного самоуправления в Республике Коми отдельными государственными полномочиями Республики Коми" | C44: 01 | D44: 04 | E44: 9900073150 | G44: =G45+G46 -> 37 | H44: =H45+H46 -> 37 | I44: =I45+I46 -> 37
...
