Workbook
Name _____asd15: #REF!
Name _____hjk1: #REF!
Name ___asd15: #REF!
Name ___hjk1: #REF!
Name _asd15: #REF!
Name _hjk1: #REF!
Name ggh: #REF!
Name hgghb: #REF!
Name rr: #REF!
Name а318: #REF!
Name А319: #REF!
Name ввп1: #REF!
Name ити: #REF!
Name при: #REF!
Name рор: #REF!
Name ф123: #REF!
Name ф124: #REF!
Name ф21: #REF!
Name Ф320: #REF!
Name ф324: #REF!
Name Ф45: #REF!

Sheet Приложение 1
A1: Приложение 1
A2: к решению Совета сельского поселения "Кельчиюр"
A3: "О внесении изменений в решение Совета сельского поселения "Кельчиюр"
A4: "О бюджете сельского поселения "Кельчиюр" на 2026 год и
A5: плановый период 2027 и 2028 годов"
A6: от 02 октября 2026 года № 5-38/1
A8: Приложение 1
A9: к решению Совета сельского поселения "Кельчиюр"
A10: "О бюджете сельского поселения "Кельчиюр" на 2026 год и
A11: плановый период 2027 и 2028 годов"
A12: от 24 декабря 2025 года № 5-33/1
A14: Распределение бюджетных ассигнований по разделам, подразделам, целевым статьям, группам видов расходов классификации расходов бюджетов на 2026 год и на плановый период 2027 и 2028 годов
A17: Наименование | B17: РЗ | C17: ПР | D17: ЦСР | E17: ВР | F17: Сумма (тыс. рублей)
F18: 2026 год | G18: 2027 год | H18: 2028 год
A19: 1 | B19: 2 | C19: 3 | D19: 4 | E19: 5 | F19: 6 | G19: 7 | H19: 8
A20: Всего | F20: =F21+F63+F74+F55+F79 -> 8977 | G20: =G21+G63+G74+G55+G79 -> 6597 | H20: =H21+H63+H74+H55+H79 -> 6777
A21: Общегосударственные вопросы | B21: 01 | C21: 00 | F21: =F22+F26+F47 -> 6911.6 | G21: =G22+G26+G47 -> 5534.4 | H21: =H22+H26+H47 -> 5554.9
A22: Функционирование высшего должностного лица субъекта Российской Федерации и муниципального образования | B22: 01 | C22: 02 | F22: =F23 -> 1427.1 | G22: =G23 -> 1001.6 | H22: =H23 -> 1001.6
A23: Непрограммные направления деятельности | B23: 01 | C23: 02 | D23: 9900000000 | F23: =F24 -> 1427.1 | G23: =G24 -> 1001.6 | H23: =H24 -> 1001.6
A24: Глава муниципального образования | B24: 01 | C24: 02 | D24: 99 0 00 02030 | F24: =F25 -> 1427.1 | G24: =G25 -> 1001.6 | H24: =H25 -> 1001.6
A25: Расходы на выплаты персоналу в целях обеспечения выполнения функций государственными (муниципальными) органами, казенными учреждениями, органами управления государственными внебюджетными фондами | B25: 01 | C25: 02 | D25: 99 0 00 02030 | E25: 100 | F25: 1427.1 | G25: 1001.6 | H25: 1001.6
A26: Функционирование Правительства Российской Федерации, высших исполнительных органов субъектов Российской Федерации, местных администраций | B26: 01 | C26: 04 | F26: =F27 -> 5442.7 | G26: =G27 -> 4523.8 | H26: =H27 -> 4544.3
A27: Непрограммные направления деятельности | B27: 01 | C27: 04 | D27: 9900000000 | F27: =F28+F38+F41+F44+F35+F32 -> 5442.7 | G27: =G28+G38+G41+G44+G35 -> 4523.8 | H27: =H28+H38+H41+H44+H35 -> 4544.3
A28: Руководство и управление в сфере установленных функций органов местного самоуправления (центральный аппарат) | B28: 01 | C28: 04 | D28: 9900002040 | F28: =F29+F30+F31 -> 4841.5 | G28: =G29+G30+G31 -> 3884.1 | H28: =H29+H30+H31 -> 3737.2
A29: Расходы на выплаты персоналу в целях обеспечения выполнения функций государственными (муниципальными) органами, казенными учреждениями, органами управления государственными внебюджетными фондами | B29: 01 | C29: 04 | D29: 9900002040 | E29: 100 | F29: 3921.8 | G29: 3350.5 | H29: 3350.5
A30: Закупка товаров, работ и услуг для обеспечения государственных (муниципальных) нужд | B30: 01 | C30: 04 | D30: 9900002040 | E30: 200 | F30: 916.7 | G30: 530.6 | H30: 383.7
A31: Иные бюджетные ассигнования | B31: 01 | C31: 04 | D31: 9900002040 | E31: 800 | F31: 3 | G31: 3 | H31: 3
A32: Осуществление полномочий муниципального района по содержанию мест захоронения | B32: 01 | C32: 04 | D32: 9900022003 | F32: =F33+F34 -> 12.5 | G32: =G33+G34 -> 0 | H32: =H33+H34 -> 0
A33: Расходы на выплаты персоналу в целях обеспечения выполнения функций государственными (муниципальными) органами, казенными учреждениями, органами управления государственными внебюджетными фондами | B33: 01 | C33: 04 | D33: 9900022003 | E33: 100 | F33: 12.4 | G33: 0 | H33: 0
A34: Закупка товаров, работ и услуг для обеспечения государственных (муниципальных) нужд | B34: 01 | C34: 04 | D34: 9900022003 | E34: 200 | F34: 0.1 | G34: 0 | H34: 0
A35: Осуществление полномочий по предоставлению помещения для работы на обслуживаемом административном участке поселения сотруднику, замещающему должность участкового уполномоченного полиции | B35: 01 | C35: 04 | D35: 9900022007 | F35: =F36+F37 -> 12.5 | G35: =G36+G37 -> 0 | H35: =H36+H37 -> 0
A36: Расходы на выплаты персоналу в целях обеспечения выполнения функций государственными (муниципальными) органами, казенными учреждениями, органами управления государственными внебюджетными фондами | B36: 01 | C36: 04 | D36: 9900022007 | E36: 100 | F36: 12.4 | G36: 0 | H36: 0
A37: Закупка товаров, работ и услуг для обеспечения государственных (муниципальных) нужд | B37: 01 | C37: 04 | D37: 9900022007 | E37: 200 | F37: 0.1 | G37: 0 | H37: 0
A38: Осуществление первичного воинского учета на территориях, где отсутствуют военные комиссариаты | B38: 01 | C38: 04 | D38: 9900051180 | F38: =F39+F40 -> 520.3 | G38: =G39+G40 -> 583.8 | H38: =H39+H40 -> 751.2
A39: Расходы на выплаты персоналу в целях обеспечения выполнения функций государственными (муниципальными) органами, казенными учреждениями, органами управления государственными внебюджетными фондами | B39: 01 | C39: 04 | D39: 9900051180 | E39: 100 | F39: 358.1 | G39: 373.6 | H39: 406.6
A40: Закупка товаров, работ и услуг для обеспечения государственных (муниципальных) нужд | B40: 01 | C40: 04 | D40: 9900051180 | E40: 200 | F40: 162.2 | G40: 210.2 | H40: 344.6
A41: Осуществление полномочий Российской Федерации по государственной регистрации актов гражданского состояния | B41: 01 | C41: 04 | D41: 9900059300 | F41: =F42+F43 -> 18.9 | G41: =G42+G43 -> 18.9 | H41: =H42+H43 -> 18.9
A42: Расходы на выплаты персоналу в целях обеспечения выполнения функций государственными (муниципальными) органами, казенными учреждениями, органами управления государственными внебюджетными фондами | B42: 01 | C42: 04 | D42: 9900059300 | E42: 100 | F42: 14.2 | G42: 14.2 | H42: 14.2
A43: Закупка товаров, работ и услуг для обеспечения государственных (муниципальных) нужд | B43: 01 | C43: 04 | D43: 9900059300 | E43: 200 | F43: 4.7 | G43: 4.7 | H43: 4.7
A44: Осуществление государственных полномочий Республики Коми, предусмотренных пунктом 6 статьи 1, статьями 2, 2(1) и 3 Закона Республики Коми "О наделении органов местного самоуправления в Республике Коми отдельными государственными полномочиями Республики Коми" | B44: 01 | C44: 04 | D44: 9900073150 | F44: =F45+F46 -> 37 | G44: =G45+G46 -> 37 | H44: =H45+H46 -> 37
A45: Расходы на выплаты персоналу в целях обеспечения выполнения функций государственными (муниципальными) органами, казенными учреждениями, органами управления государственными внебюджетными фондами | B45: 01 | C45: 04 | D45: 9900073150 | E45: 100 | F45: 31 | G45: 31 | H45: 31
A46: Закупка товаров, работ и услуг для обеспечения государственных (муниципальных) нужд | B46: 01 | C46: 04 | D46: 9900073150 | E46: 200 | F46: 6 | G46: 6 | H46: 6
A47: Другие общегосударственные вопросы | B47: 01 | C47: 13 | F47: =F48 -> 41.8 | G47: =G48 -> 9 | H47: =H48 -> 9
A48: Непрограммные направления деятельности | B48: 01 | C48: 13 | D48: 9900000000 | F48: =F51+F49+F53 -> 41.8 | G48: =G51+G49+G53 -> 9 | H48: =H51+H49+H53 -> 9
A49: Выполнение других обязательств государства | B49: 01 | C49: 13 | D49: 9900009230 | F49: =F50 -> 9 | G49: =G50 -> 9 | H49: =H50 -> 9
A50: Иные бюджетные ассигнования | B50: 01 | C50: 13 | D50: 9900009230 | E50: 800 | F50: 9 | G50: 9 | H50: 9
A51: Межбюджетные трансферты на осуществление переданных полномочий поселений по осуществлению внешнего муниципального финансового контроля в соответствии с заключенными соглашениями | B51: 01 | C51: 13 | D51: 9900024030 | F51: =F52 -> 11 | G51: =G52 -> 0 | H51: =H52 -> 0
A52: Межбюджетные трансферты | B52: 01 | C52: 13 | D52: 9900024030 | E52: 500 | F52: 11 | G52: 0 | H52: 0
A53: Межбюджетные трансферты на осуществление переданных полномочий поселений по составлению проекта бюджета поселения, осуществление контроля за его исполнением, составлению отчета об исполнении бюджета поселения, части полномочий в сфере закупок товаров, работ, услуг в соответствии с заключенными соглашениями | B53: 01 | C53: 13 | D53: 9900024040 | F53: =F54 -> 21.8 | G53: =G54 -> 0 | H53: =H54 -> 0
A54: Межбюджетные трансферты | B54: 01 | C54: 13 | D54: 9900024040 | E54: 500 | F54: 21.8 | G54: 0 | H54: 0
A55: Национальная безопасность и правоохранительная деятельность | B55: 03 | C55: 00 | F55: =F56 -> 522.6 | G55: =G56 -> 10 | H55: =H56 -> 10
A56: Защита населения и территории от чрезвычайных ситуаций природного и техногенного характера, пожарная безопасность | B56: 03 | C56: 10 | F56: =F57+F61 -> 522.6 | G56: =G57 -> 10 | H56: =H57 -> 10
A57: Муниципальная программа "Противопожарное водоснабжение в муниципальном образовании сельском поселении "Кельчиюр" | B57: 03 | C57: 10 | D57: 100000000 | F57: =F58 -> 345.8 | G57: =G58 -> 10 | H57: =H58 -> 10
A58: Расходы на реализацию основных мероприятий программы | B58: 03 | C58: 10 | D58: 100099000 | F58: =F59 -> 345.8 | G58: =G59 -> 10 | H58: =H59 -> 10
A59: Закупка товаров, работ и услуг для обеспечения государственных (муниципальных) нужд | B59: 03 | C59: 10 | D59: 100099000 | E59: 200 | F59: 345.8 | G59: 10 | H59: 10
A60: Непрограммные направления деятельности | B60: 03 | C60: 10 | D60: 99 0 00 00000 | F60: =F61 -> 176.8 | G60: =G61 -> 0 | H60: =H61 -> 0
A61: Резервный фонд администрации муниципального района "Ижемский" по предупреждению и ликвидации чрезвычайных ситуаций и последствий стихийных бедствий | B61: 03 | C61: 10 | D61: 99 0 00 10700 | F61: =F62 -> 176.8 | G61: =G62 -> 0 | H61: =H62 -> 0
A62: Закупка товаров, работ и услуг для обеспечения государственных (муниципальных) нужд | B62: 03 | C62: 10 | D62: 99 0 00 10700 | E62: 200 | F62: 176.8 | G62: 0 | H62: 0
A63: Жилищно-коммунальное хозяйство | B63: 05 | C63: 00 | F63: =F64 -> 1101.9 | G63: =G64 -> 470.2 | H63: =H64 -> 480.2
A64: Благоустройство | B64: 05 | C64: 03 | F64: =F65+F71 -> 1101.9 | G64: =G65+G71 -> 470.2 | H64: =H65+H71 -> 480.2
A65: Муниципальная программа "Благоустройство населенных пунктов сельского поселения "Кельчиюр" | B65: 05 | C65: 03 | D65: 200000000 | F65: =F66+F68 -> 1091.9 | G65: =G66+G68 -> 460.2 | H65: =H66+H68 -> 470.2
A66: Осуществление полномочий муниципального района по содержанию мест захоронения | B66: 05 | C66: 03 | D66: 200022003 | F66: =F67 -> 36.7 | G66: =G67 -> 0 | H66: =H67 -> 0
A67: Закупка товаров, работ и услуг для обеспечения государственных (муниципальных) нужд | B67: 05 | C67: 03 | D67: 200022003 | E67: 200 | F67: 36.7 | G67: 0 | H67: 0
A68: Расходы на реализацию основных мероприятий программы | B68: 05 | C68: 03 | D68: 200099000 | F68: =F69+F70 -> 1055.2 | G68: =G69+G70 -> 460.2 | H68: =H69+H70 -> 470.2
A69: Расходы на выплаты персоналу в целях обеспечения выполнения функций государственными (муниципальными) органами, казенными учреждениями, органами управления государственными внебюджетными фондами | B69: 05 | C69: 03 | D69: 200099000 | E69: 100 | F69: 130.2 | G69: 130.2 | H69: 130.2
A70: Закупка товаров, работ и услуг для обеспечения государственных (муниципальных) нужд | B70: 05 | C70: 03 | D70: 200099000 | E70: 200 | F70: 925 | G70: 330 | H70: 340
A71: Муниципальная программа "Энергосбережение и повышение энергетической эффективности в сельском поселении "Кельчиюр" | B71: 05 | C71: 03 | D71: 300000000 | F71: =F72 -> 10 | G71: =G72 -> 10 | H71: =H72 -> 10
A72: Расходы на реализацию основных мероприятий программы | B72: 05 | C72: 03 | D72: 300099000 | F72: =F73 -> 10 | G72: =G73 -> 10 | H72: =H73 -> 10
A73: Закупка товаров, работ и услуг для обеспечения государственных (муниципальных) нужд | B73: 05 | C73: 03 | D73: 300099000 | E73: 200 | F73: 10 | G73: 10 | H73: 10
A74: Социальная политика | B74: 10 | C74: 00 | F74: =F75 -> 440.9 | G74: =G75 -> 440.9 | H74: =H75 -> 440.9
A75: Пенсионное обеспечение | B75: 10 | C75: 01 | F75: =F76 -> 440.9 | G75: =G76 -> 440.9 | H75: =H76 -> 440.9
A76: Непрограммные направления деятельности | B76: 10 | C76: 01 | D76: 9900000000 | F76: =F77 -> 440.9 | G76: =G77 -> 440.9 | H76: =H77 -> 440.9
A77: Пенсии за выслугу лет лицам, замещавшим должности муниципальной службы и выборные должности в органах местного самоуправления | B77: 10 | C77: 01 | D77: 9900010490 | F77: =F78 -> 440.9 | G77: =G78 -> 440.9 | H77: =H78 -> 440.9
A78: Социальное обеспечение и иные выплаты населению | B78: 10 | C78: 01 | D78: 9900010490 | E78: 300 | F78: 440.9 | G78: 440.9 | H78: 440.9
A79: Условно утверждаемые (утвержденные) расходы | B79: 99 | C79: 00 | F79: =F80 -> 0 | G79: =G80 -> 141.5 | H79: =H80 -> 291
A80: Условно утверждаемые (утвержденные) расходы | B80: 99 | C80: 99 | F80: =F82 -> 0 | G80: =G82 -> 141.5 | H80: =H82 -> 291
A81: Непрограммные направления деятельности | B81: 99 | C81: 99 | D81: 9900000000 | F81: =F82 -> 0 | G81: =G82 -> 141.5 | H81: =H82 -> 291
A82: Условно утверждаемые (утвержденные) расходы | B82: 99 | C82: 99 | D82: 9900099990 | F82: =F83 -> 0 | G82: =G83 -> 141.5 | H82: =H83 -> 291
A83: Иные бюджетные ассигнования | B83: 99 | C83: 99 | D83: 9900099990 | E83: 800 | F83: 0 | G83: 141.5 | H83: 291

Sheet Приложение 2
A1: Приложение 2
A2: к решению Совета сельского поселения "Кельчиюр"
A3: "О внесении изменений в решение Совета сельского поселения "Кельчиюр"
A4: "О бюджете сельского поселения "Кельчиюр" на 2026 год и
A5: плановый период 2027 и 2028 годов"
A6: от 02 октября 2026 года № 5-38/1
A8: Приложение 2
A9: к решению Совета сельского поселения "Кельчиюр"
A10: "О бюджете сельского поселения "Кельчиюр" на 2026 год и
A11: плановый период 2027 и 2028 годов"
A12: от 24 декабря 2025 года № 5-33/1
A14: Ведомственная структура расходов бюджета сельского поселения "Кельчиюр" на 2026 год и на плановый период 2027 и 2028 годов
A17: Наименование | B17: Гл | C17: РЗ | D17: ПР | E17: ЦСР | F17: ВР | G17: Сумма (тыс. рублей)
G18: 2026 год | H18: 2027 год | I18: 2028 год
A19: 1 | B19: 2 | C19: 3 | D19: 4 | E19: 5 | F19: 6 | G19: 7 | H19: 8 | I19: 9
A20: Администрация сельского поселения «Кельчиюр» | B20: 918 | G20: =G21+G63+G74+G55+G79 -> 8977 | H20: =H21+H63+H74+H55+H79 -> 6597 | I20: =I21+I63+I74+I55+I79 -> 6777
A21: Общегосударственные вопросы | C21: 01 | D21: 00 | G21: =G22+G26+G47 -> 6911.6 | H21: =H22+H26+H47 -> 5534.4 | I21: =I22+I26+I47 -> 5554.9
A22: Функционирование высшего должностного лица субъекта Российской Федерации и муниципального образования | C22: 01 | D22: 02 | G22: =G23 -> 1427.1 | H22: =H23 -> 1001.6 | I22: =I23 -> 1001.6
A23: Непрограммные направления деятельности | C23: 01 | D23: 02 | E23: 9900000000 | G23: =G24 -> 1427.1 | H23: =H24 -> 1001.6 | I23: =I24 -> 1001.6
A24: Глава муниципального образования | C24: 01 | D24: 02 | E24: 99 0 00 02030 | G24: =G25 -> 1427.1 | H24: =H25 -> 1001.6 | I24: =I25 -> 1001.6
A25: Расходы на выплаты персоналу в целях обеспечения выполнения функций государственными (муниципальными) органами, казенными учреждениями, органами управления государственными внебюджетными фондами | C25: 01 | D25: 02 | E25: 99 0 00 02030 | F25: 100 | G25: ='Приложение 1'!F25 -> 1427.1 | H25: ='Приложение 1'!G25 -> 1001.6 | I25: ='Приложение 1'!H25 -> 1001.6
A26: Функционирование Правительства Российской Федерации, высших исполнительных органов субъектов Российской Федерации, местных администраций | C26: 01 | D26: 04 | G26: =G27 -> 5442.7 | H26: =H27 -> 4523.8 | I26: =I27 -> 4544.3
A27: Непрограммные направления деятельности | C27: 01 | D27: 04 | E27: 9900000000 | G27: =G28+G38+G41+G44+G35+G32 -> 5442.7 | H27: =H28+H38+H41+H44+H35 -> 4523.8 | I27: =I28+I38+I41+I44+I35 -> 4544.3
A28: Руководство и управление в сфере установленных функций органов местного самоуправления (центральный аппарат) | C28: 01 | D28: 04 | E28: 9900002040 | G28: =G29+G30+G31 -> 4841.5 | H28: =H29+H30+H31 -> 3884.1 | I28: =I29+I30+I31 -> 3737.2
A29: Расходы на выплаты персоналу в целях обеспечения выполнения функций государственными (муниципальными) органами, казенными учреждениями, органами управления государственными внебюджетными фондами | C29: 01 | D29: 04 | E29: 9900002040 | F29: 100 | G29: ='Приложение 1'!F29 -> 3921.8 | H29: ='Приложение 1'!G29 -> 3350.5 | I29: ='Приложение 1'!H29 -> 3350.5
A30: Закупка товаров, работ и услуг для обеспечения государственных (муниципальных) нужд | C30: 01 | D30: 04 | E30: 9900002040 | F30: 200 | G30: ='Приложение 1'!F30 -> 916.7 | H30: ='Приложение 1'!G30 -> 530.6 | I30: ='Приложение 1'!H30 -> 383.7
A31: Иные бюджетные ассигнования | C31: 01 | D31: 04 | E31: 9900002040 | F31: 800 | G31: ='Приложение 1'!F31 -> 3 | H31: ='Приложение 1'!G31 -> 3 | I31: ='Приложение 1'!H31 -> 3
A32: Осуществление полномочий муниципального района по содержанию мест захоронения | C32: 01 | D32: 04 | E32: 9900022003 | G32: =G33+G34 -> 12.5 | H32: =H33+H34 -> 0 | I32: =I33+I34 -> 0
A33: Расходы на выплаты персоналу в целях обеспечения выполнения функций государственными (муниципальными) органами, казенными учреждениями, органами управления государственными внебюджетными фондами | C33: 01 | D33: 04 | E33: 9900022003 | F33: 100 | G33: ='Приложение 1'!F33 -> 12.4 | H33: ='[1]Приложение 1 '!G25 -> 0 | I33: ='[1]Приложение 1 '!H25 -> 0
A34: Закупка товаров, работ и услуг для обеспечения государственных (муниципальных) нужд | C34: 01 | D34: 04 | E34: 9900022003 | F34: 200 | G34: ='Приложение 1'!F34 -> 0.1 | H34: ='[1]Приложение 1 '!G26 -> 0 | I34: ='[1]Приложение 1 '!H26 -> 0
A35: Осуществление полномочий по предоставлению помещения для работы на обслуживаемом административном участке поселения сотруднику, замещающему должность участкового уполномоченного полиции | C35: 01 | D35: 04 | E35: 9900022007 | G35: =G36+G37 -> 12.5 | H35: =H36+H37 -> 0 | I35: =I36+I37 -> 0
A36: Расходы на выплаты персоналу в целях обеспечения выполнения функций государственными (муниципальными) органами, казенными учреждениями, органами управления государственными внебюджетными фондами | C36: 01 | D36: 04 | E36: 9900022007 | F36: 100 | G36: ='Приложение 1'!F36 -> 12.4 | H36: ='Приложение 1'!G36 -> 0 | I36: ='Приложение 1'!H36 -> 0
A37: Закупка товаров, работ и услуг для обеспечения государственных (муниципальных) нужд | C37: 01 | D37: 04 | E37: 9900022007 | F37: 200 | G37: ='Приложение 1'!F37 -> 0.1 | H37: ='Приложение 1'!G37 -> 0 | I37: ='Приложение 1'!H37 -> 0
A38: Осуществление первичного воинского учета на территориях, где отсутствуют военные комиссариаты | C38: 01 | D38: 04 | E38: 9900051180 | G38: =G39+G40 -> 520.3 | H38: =H39+H40 -> 583.8 | I38: =I39+I40 -> 751.2
A39: Расходы на выплаты персоналу в целях обеспечения выполнения функций государственными (муниципальными) органами, казенными учреждениями, органами управления государственными внебюджетными фондами | C39: 01 | D39: 04 | E39: 9900051180 | F39: 100 | G39: ='Приложение 1'!F39 -> 358.1 | H39: ='Приложение 1'!G39 -> 373.6 | I39: ='Приложение 1'!H39 -> 406.6
A40: Закупка товаров, работ и услуг для обеспечения государственных (муниципальных) нужд | C40: 01 | D40: 04 | E40: 9900051180 | F40: 200 | G40: ='Приложение 1'!F40 -> 162.2 | H40: ='Приложение 1'!G40 -> 210.2 | I40: ='Приложение 1'!H40 -> 344.6
A41: Осуществление полномочий Российской Федерации по государственной регистрации актов гражданского состояния | C41: 01 | D41: 04 | E41: 9900059300 | G41: =G42+G43 -> 18.9 | H41: =H42+H43 -> 18.9 | I41: =I42+I43 -> 18.9
A42: Расходы на выплаты персоналу в целях обеспечения выполнения функций государственными (муниципальными) органами, казенными учреждениями, органами управления государственными внебюджетными фондами | C42: 01 | D42: 04 | E42: 9900059300 | F42: 100 | G42: ='Приложение 1'!F42 -> 14.2 | H42: ='Приложение 1'!G42 -> 14.2 | I42: ='Приложение 1'!H42 -> 14.2
A43: Закупка товаров, работ и услуг для обеспечения государственных (муниципальных) нужд | C43: 01 | D43: 04 | E43: 9900059300 | F43: 200 | G43: ='Приложение 1'!F43 -> 4.7 | H43: ='Приложение 1'!G43 -> 4.7 | I43: ='Приложение 1'!H43 -> 4.7
A44: Осуществление государственных полномочий Республики Коми, предусмотренных пунктом 6 статьи 1, статьями 2, 2(1) и 3 Закона Республики Коми "О наделении органов местного самоуправления в Республике Коми отдельными государственными полномочиями Республики Коми" | C44: 01 | D44: 04 | E44: 9900073150 | G44: =G45+G46 -> 37 | H44: =H45+H46 -> 37 | I44: =I45+I46 -> 37
A45: Расходы на выплаты персоналу в целях обеспечения выполнения функций государственными (муниципальными) органами, казенными учреждениями, органами управления государственными внебюджетными фондами | C45: 01 | D45: 04 | E45: 9900073150 | F45: 100 | G45: ='Приложение 1'!F45 -> 31 | H45: ='Приложение 1'!G45 -> 31 | I45: ='Приложение 1'!H45 -> 31
A46: Закупка товаров, работ и услуг для обеспечения государственных (муниципальных) нужд | C46: 01 | D46: 04 | E46: 9900073150 | F46: 200 | G46: ='Приложение 1'!F46 -> 6 | H46: ='Приложение 1'!G46 -> 6 | I46: ='Приложение 1'!H46 -> 6
A47: Другие общегосударственные вопросы | C47: 01 | D47: 13 | G47: =G48 -> 41.8 | H47: =H48 -> 9 | I47: =I48 -> 9
A48: Непрограммные направления деятельности | C48: 01 | D48: 13 | E48: 9900000000 | G48: =G51+G49+G53 -> 41.8 | H48: =H51+H49+H53 -> 9 | I48: =I51+I49+I53 -> 9
A49: Выполнение других обязательств государства | C49: 01 | D49: 13 | E49: 9900009230 | G49: =G50 -> 9 | H49: =H50 -> 9 | I49: =I50 -> 9
A50: Иные бюджетные ассигнования | C50: 01 | D50: 13 | E50: 9900009230 | F50: 800 | G50: ='Приложение 1'!F50 -> 9 | H50: ='Приложение 1'!G50 -> 9 | I50: ='Приложение 1'!H50 -> 9
A51: Межбюджетные трансферты на осуществление переданных полномочий поселений по осуществлению внешнего муниципального финансового контроля в соответствии с заключенными соглашениями | C51: 01 | D51: 13 | E51: 9900024030 | G51: =G52 -> 11 | H51: =H52 -> 0 | I51: =I52 -> 0
A52: Межбюджетные трансферты | C52: 01 | D52: 13 | E52: 9900024030 | F52: 500 | G52: ='Приложение 1'!F52 -> 11 | H52: ='Приложение 1'!G52 -> 0 | I52: ='Приложение 1'!H52 -> 0
A53: Межбюджетные трансферты на осуществление переданных полномочий поселений по составлению проекта бюджета поселения, осуществление контроля за его исполнением, составлению отчета об исполнении бюджета поселения, части полномочий в сфере закупок товаров, работ, услуг в соответствии с заключенными соглашениями | C53: 01 | D53: 13 | E53: 9900024040 | G53: =G54 -> 21.8 | H53: =H54 -> 0 | I53: =I54 -> 0
A54: Межбюджетные трансферты | C54: 01 | D54: 13 | E54: 9900024040 | F54: 500 | G54: ='Приложение 1'!F54 -> 21.8 | H54: ='Приложение 1'!G54 -> 0 | I54: ='Приложение 1'!H54 -> 0
A55: Национальная безопасность и правоохранительная деятельность | C55: 03 | D55: 00 | G55: =G56 -> 522.6 | H55: =H56 -> 10 | I55: =I56 -> 10
A56: Защита населения и территории от чрезвычайных ситуаций природного и техногенного характера, пожарная безопасность | C56: 03 | D56: 10 | G56: =G57+G60 -> 522.6 | H56: =H57 -> 10 | I56: =I57 -> 10
A57: Муниципальная программа "Противопожарное водоснабжение в муниципальном образовании сельском поселении "Кельчиюр" | C57: 03 | D57: 10 | E57: 100000000 | G57: =G58 -> 345.8 | H57: =H58 -> 10 | I57: =I58 -> 10
A58: Расходы на реализацию основных мероприятий программы | C58: 03 | D58: 10 | E58: 100099000 | G58: =G59 -> 345.8 | H58: =H59 -> 10 | I58: =I59 -> 10
A59: Закупка товаров, работ и услуг для обеспечения государственных (муниципальных) нужд | C59: 03 | D59: 10 | E59: 100099000 | F59: 200 | G59: ='Приложение 1'!F59 -> 345.8 | H59: ='Приложение 1'!G59 -> 10 | I59: ='Приложение 1'!H59 -> 10
A60: Непрограммные направления деятельности | C60: 03 | D60: 10 | E60: 99 0 00 00000 | G60: =G61 -> 176.8 | H60: =H61 -> 0 | I60: =I61 -> 0
A61: Резервный фонд администрации муниципального района "Ижемский" по предупреждению и ликвидации чрезвычайных ситуаций и последствий стихийных бедствий | C61: 03 | D61: 10 | E61: 99 0 00 10700 | G61: =G62 -> 176.8 | H61: =H62 -> 0 | I61: =I62 -> 0
A62: Закупка товаров, работ и услуг для обеспечения государственных (муниципальных) нужд | C62: 03 | D62: 10 | E62: 99 0 00 10700 | F62: 200 | G62: ='Приложение 1'!F62 -> 176.8 | H62: ='Приложение 1'!G62 -> 0 | I62: ='Приложение 1'!H62 -> 0
A63: Жилищно-коммунальное хозяйство | C63: 05 | D63: 00 | G63: =G64 -> 1101.9 | H63: =H64 -> 470.2 | I63: =I64 -> 480.2
A64: Благоустройство | C64: 05 | D64: 03 | G64: =G65+G71 -> 1101.9 | H64: =H65+H71 -> 470.2 | I64: =I65+I71 -> 480.2
A65: Муниципальная программа "Благоустройство населенных пунктов сельского поселения "Кельчиюр" | C65: 05 | D65: 03 | E65: 200000000 | G65: =G66+G68 -> 1091.9 | H65: =H66+H68 -> 460.2 | I65: =I66+I68 -> 470.2
A66: Осуществление полномочий муниципального района по содержанию мест захоронения | C66: 05 | D66: 03 | E66: 200022003 | G66: =G67 -> 36.7 | H66: =H67 -> 0 | I66: =I67 -> 0
A67: Закупка товаров, работ и услуг для обеспечения государственных (муниципальных) нужд | C67: 05 | D67: 03 | E67: 200022003 | F67: 200 | G67: ='Приложение 1'!F67 -> 36.7 | H67: ='Приложение 1'!G67 -> 0 | I67: ='Приложение 1'!H67 -> 0
A68: Расходы на реализацию основных мероприятий программы | C68: 05 | D68: 03 | E68: 200099000 | G68: =G69+G70 -> 1055.2 | H68: =H69+H70 -> 460.2 | I68: =I69+I70 -> 470.2
A69: Расходы на выплаты персоналу в целях обеспечения выполнения функций государственными (муниципальными) органами, казенными учреждениями, органами управления государственными внебюджетными фондами | C69: 05 | D69: 03 | E69: 200099000 | F69: 100 | G69: ='Приложение 1'!F69 -> 130.2 | H69: ='Приложение 1'!G69 -> 130.2 | I69: ='Приложение 1'!H69 -> 130.2
A70: Закупка товаров, работ и услуг для обеспечения государственных (муниципальных) нужд | C70: 05 | D70: 03 | E70: 200099000 | F70: 200 | G70: ='Приложение 1'!F70 -> 925 | H70: ='Приложение 1'!G70 -> 330 | I70: ='Приложение 1'!H70 -> 340
A71: Муниципальная программа "Энергосбережение и повышение энергетической эффективности в сельском поселении "Кельчиюр" | C71: 05 | D71: 03 | E71: 300000000 | G71: =G72 -> 10 | H71: =H72 -> 10 | I71: =I72 -> 10
A72: Расходы на реализацию основных мероприятий программы | C72: 05 | D72: 03 | E72: 300099000 | G72: =G73 -> 10 | H72: =H73 -> 10 | I72: =I73 -> 10
A73: Закупка товаров, работ и услуг для обеспечения государственных (муниципальных) нужд | C73: 05 | D73: 03 | E73: 300099000 | F73: 200 | G73: ='Приложение 1'!F73 -> 10 | H73: ='Приложение 1'!G73 -> 10 | I73: ='Приложение 1'!H73 -> 10
A74: Социальная политика | C74: 10 | D74: 00 | G74: =G75 -> 440.9 | H74: =H75 -> 440.9 | I74: =I75 -> 440.9
A75: Пенсионное обеспечение | C75: 10 | D75: 01 | G75: =G76 -> 440.9 | H75: =H76 -> 440.9 | I75: =I76 -> 440.9
A76: Непрограммные направления деятельности | C76: 10 | D76: 01 | E76: 9900000000 | G76: =G77 -> 440.9 | H76: =H77 -> 440.9 | I76: =I77 -> 440.9
A77: Пенсии за выслугу лет лицам, замещавшим должности муниципальной службы и выборные должности в органах местного самоуправления | C77: 10 | D77: 01 | E77: 9900010490 | G77: =G78 -> 440.9 | H77: =H78 -> 440.9 | I77: =I78 -> 440.9
A78: Социальное обеспечение и иные выплаты населению | C78: 10 | D78: 01 | E78: 9900010490 | F78: 300 | G78: ='Приложение 1'!F78 -> 440.9 | H78: ='Приложение 1'!G78 -> 440.9 | I78: ='Приложение 1'!H78 -> 440.9
A79: Условно утверждаемые (утвержденные) расходы | C79: 99 | D79: 00 | G79: =G80 -> 0 | H79: =H80 -> 141.5 | I79: =I80 -> 291
A80: Условно утверждаемые (утвержденные) расходы | C80: 99 | D80: 99 | G80: =G82 -> 0 | H80: =H82 -> 141.5 | I80: =I82 -> 291
A81: Непрограммные направления деятельности | C81: 99 | D81: 99 | E81: 9900000000 | G81: =G82 -> 0 | H81: =H82 -> 141.5 | I81: =I82 -> 291
A82: Условно утверждаемые (утвержденные) расходы | C82: 99 | D82: 99 | E82: 9900099990 | G82: =G83 -> 0 | H82: =H83 -> 141.5 | I82: =I83 -> 291
A83: Иные бюджетные ассигнования | C83: 99 | D83: 99 | E83: 9900099990 | F83: 800 | G83: ='Приложение 1'!F83 -> 0 | H83: ='Приложение 1'!G83 -> 141.5 | I83: ='Приложение 1'!H83 -> 291
